BEGIN:VCALENDAR
VERSION:2.0
PRODID:-//orbit.firespring.org//NONSGML kigkonsult.se iCalcreator 2.30.10//
CALSCALE:GREGORIAN
METHOD:PUBLISH
UID:dbfe5926-fc5a-4b46-ab84-5a8f4e9e1cd3
X-WR-CALDESC:Monthly Board Meeting
X-WR-RELCALID:0a8b725e3c4fd58601b8798000a027fc
X-WR-TIMEZONE:America/Chicago
BEGIN:VTIMEZONE
TZID:America/Chicago
BEGIN:STANDARD
TZNAME:CST
DTSTART:20231105T020000
TZOFFSETFROM:-0500
TZOFFSETTO:-0600
RDATE:20241103T020000
END:STANDARD
BEGIN:DAYLIGHT
TZNAME:CDT
DTSTART:20230312T020000
TZOFFSETFROM:-0600
TZOFFSETTO:-0500
RDATE:20240310T020000
RDATE:20250309T020000
END:DAYLIGHT
END:VTIMEZONE
BEGIN:VEVENT
UID:98d42f34-730a-45bd-90db-931f555f3c0f
DTSTAMP:20260421T084831Z
DESCRIPTION:Monthly Board Meeting
DTSTART;TZID=America/Chicago:20231208T183000
DTEND;TZID=America/Chicago:20231208T200000
LOCATION:Atrium Meeting Room
SUMMARY:Board Meeting
END:VEVENT
END:VCALENDAR
