BEGIN:VCALENDAR
VERSION:2.0
PRODID:-//orbit.firespring.org//NONSGML kigkonsult.se iCalcreator 2.30.10//
CALSCALE:GREGORIAN
METHOD:PUBLISH
UID:95ddd280-03fc-4c14-8876-f2c8b890f5f1
X-WR-CALDESC:Monthly Board Meeting
X-WR-RELCALID:bd56f094f1c51c0b60e6650eb8aea667
X-WR-TIMEZONE:America/Chicago
BEGIN:VTIMEZONE
TZID:America/Chicago
BEGIN:STANDARD
TZNAME:CST
DTSTART:20221106T020000
TZOFFSETFROM:-0500
TZOFFSETTO:-0600
RDATE:20231105T020000
RDATE:20241103T020000
END:STANDARD
BEGIN:DAYLIGHT
TZNAME:CDT
DTSTART:20230312T020000
TZOFFSETFROM:-0600
TZOFFSETTO:-0500
RDATE:20240310T020000
RDATE:20250309T020000
END:DAYLIGHT
END:VTIMEZONE
BEGIN:VEVENT
UID:afd7c206-e104-46ab-a216-5373492e7cb4
DTSTAMP:20260421T134246Z
DESCRIPTION:Monthly Board Meeting
DTSTART;TZID=America/Chicago:20231013T183000
DTEND;TZID=America/Chicago:20231013T200000
LOCATION:Atrium Meeting Room
SUMMARY:Board Meeting
END:VEVENT
END:VCALENDAR
